BEGIN:VCALENDAR
VERSION:2.0
PRODID:-//Retailworks Inc - ECPv6.15.20//NONSGML v1.0//EN
CALSCALE:GREGORIAN
METHOD:PUBLISH
X-WR-CALNAME:Retailworks Inc
X-ORIGINAL-URL:https://retailworksinc.com
X-WR-CALDESC:Events for Retailworks Inc
REFRESH-INTERVAL;VALUE=DURATION:PT1H
X-Robots-Tag:noindex
X-PUBLISHED-TTL:PT1H
BEGIN:VTIMEZONE
TZID:America/Chicago
BEGIN:DAYLIGHT
TZOFFSETFROM:-0600
TZOFFSETTO:-0500
TZNAME:CDT
DTSTART:20250309T080000
END:DAYLIGHT
BEGIN:STANDARD
TZOFFSETFROM:-0500
TZOFFSETTO:-0600
TZNAME:CST
DTSTART:20251102T070000
END:STANDARD
BEGIN:DAYLIGHT
TZOFFSETFROM:-0600
TZOFFSETTO:-0500
TZNAME:CDT
DTSTART:20260308T080000
END:DAYLIGHT
BEGIN:STANDARD
TZOFFSETFROM:-0500
TZOFFSETTO:-0600
TZNAME:CST
DTSTART:20261101T070000
END:STANDARD
BEGIN:DAYLIGHT
TZOFFSETFROM:-0600
TZOFFSETTO:-0500
TZNAME:CDT
DTSTART:20270314T080000
END:DAYLIGHT
BEGIN:STANDARD
TZOFFSETFROM:-0500
TZOFFSETTO:-0600
TZNAME:CST
DTSTART:20271107T070000
END:STANDARD
END:VTIMEZONE
BEGIN:VEVENT
DTSTART;VALUE=DATE:20260421
DTEND;VALUE=DATE:20260422
DTSTAMP:20260421T083340
CREATED:20260226T175331Z
LAST-MODIFIED:20260226T183937Z
UID:23402-1776729600-1776815999@retailworksinc.com
SUMMARY:RW Main Street Merchants Merchandising Program in West Allis\, WI
DESCRIPTION:Retailworks’ Main Street Merchants Merchandising Program provides a combination of virtual and on-site consultations with expert-led roundtable discussions and personalized recommendations for Main Street retailers on how to improve the customer experience and showcase products and displays in the best way.
URL:https://retailworksinc.com/event/suzanne-julia-present-the-merchants-merchandising-program-in-west-allis-wi/
END:VEVENT
END:VCALENDAR